BEGIN:VCALENDAR
VERSION:2.0
PRODID:-//jEvents 2.0 for Joomla//EN
CALSCALE:GREGORIAN
METHOD:PUBLISH
BEGIN:VEVENT
UID:8f8fb589ba95227d6c25796247cbdda3
CATEGORIES:Devotional Gatherings
CREATED:19700101T100000
SUMMARY:Soulful Conversations: Bahá'í Devotion and Discussion
LOCATION:Lions Club\, Cleveland\nShore Street North\nCleveland\nQueensland\nAustrali
 a
URL;VALUE=URI:https://www.redlands.qld.bahai.org.au/local-events-calendar/1370/soulful-co
 nversations-bahai-devotion-and-discussion.html?tmpl=component
DESCRIPTION:Join us as we engage in prayer, reflection, and open dialogue, uniting our 
 souls in a shared commitment to promoting unity, peace, and love in the ser
 vice of all.This is an inclusive and welcoming space for individuals of all
  backgrounds and beliefs to come together in unity and understanding. This 
 event was imported from: https://www.redlands.qld.bahai.org.au/local-events
 -calendar/1370/soulful-conversations-bahai-devotion-and-discussion.html?tmp
 l=component
X-ALT-DESC;FMTTYPE=text/html:<div class="xdj266r x11i5rnm xat24cr x1mh8g0r x1vvkbs">Join us as we engage
  in prayer, reflection, and open dialogue, uniting our souls in a shared co
 mmitment to promoting unity, peace, and love in the service of all.</div><d
 iv class="x11i5rnm xat24cr x1mh8g0r x1vvkbs xtlvy1s">This is an inclusive a
 nd welcoming space for individuals of all backgrounds and beliefs to come t
 ogether in unity and understanding.</div> <a href="https://www.redlands.qld
 .bahai.org.au/local-events-calendar/1370/soulful-conversations-bahai-devoti
 on-and-discussion.html?tmpl=component">This event was imported from: https:
 //www.redlands.qld.bahai.org.au/local-events-calendar/1370/soulful-conversa
 tions-bahai-devotion-and-discussion.html?tmpl=component</a>CONTACT:https://www.redlands.qld.bahai.org.au/contact-us.html
DTSTAMP:20260421T142648
DTSTART;TZID=Australia/Brisbane:20230917T093000
DTEND;TZID=Australia/Brisbane:20230917T113000
SEQUENCE:0
RRULE:FREQ=MONTHLY;UNTIL=20250401T000000Z;INTERVAL=1;BYDAY=+1SU,+3SU
TRANSP:OPAQUE
END:VEVENT
END:VCALENDAR