BEGIN:VCALENDAR
VERSION:2.0
PRODID:-//jEvents 2.0 for Joomla//EN
CALSCALE:GREGORIAN
METHOD:PUBLISH
BEGIN:VEVENT
UID:3704790cd855e560c25c2b233260bb54
CATEGORIES:Devotional Gatherings
CREATED:20240803T183913
SUMMARY:Community Devotional
URL;VALUE=URI:https://www.redlands.qld.bahai.org.au/local-events-calendar/1382/community-
 devotional.html?tmpl=component
DESCRIPTION: This event was imported from: https://www.redlands.qld.bahai.org.au/local-
 events-calendar/1382/community-devotional.html?tmpl=component
X-ALT-DESC;FMTTYPE=text/html: <a href="https://www.redlands.qld.bahai.org.au/local-events-calendar/1382/
 community-devotional.html?tmpl=component">This event was imported from: htt
 ps://www.redlands.qld.bahai.org.au/local-events-calendar/1382/community-dev
 otional.html?tmpl=component</a>DTSTAMP:20260422T021935
DTSTART;TZID=Australia/Brisbane:20240818T093000
DTEND;TZID=Australia/Brisbane:20240818T113000
SEQUENCE:0
TRANSP:OPAQUE
END:VEVENT
END:VCALENDAR