BEGIN:VCALENDAR
VERSION:2.0
PRODID:-//jEvents 2.0 for Joomla//EN
CALSCALE:GREGORIAN
METHOD:PUBLISH
BEGIN:VEVENT
UID:ec95a0fa7f17e943b647fe2ddd7af300
CATEGORIES:Devotional Gatherings
CREATED:20240803T183810
SUMMARY:Community Devotional
URL;VALUE=URI:https://www.redlands.qld.bahai.org.au/local-events-calendar/1381/community-
 devotional.html?tmpl=component
DESCRIPTION: This event was imported from: https://www.redlands.qld.bahai.org.au/local-
 events-calendar/1381/community-devotional.html?tmpl=component
X-ALT-DESC;FMTTYPE=text/html: <a href="https://www.redlands.qld.bahai.org.au/local-events-calendar/1381/
 community-devotional.html?tmpl=component">This event was imported from: htt
 ps://www.redlands.qld.bahai.org.au/local-events-calendar/1381/community-dev
 otional.html?tmpl=component</a>DTSTAMP:20260422T021935
DTSTART;TZID=Australia/Brisbane:20240804T093000
DTEND;TZID=Australia/Brisbane:20240804T113000
SEQUENCE:0
TRANSP:OPAQUE
END:VEVENT
END:VCALENDAR